Package: netresponse Version: 1.70.0 Command: /home/biocbuild/R/R/bin/R CMD build --keep-empty-dirs --no-resave-data netresponse StartedAt: 2025-11-11 03:45:08 -0000 (Tue, 11 Nov 2025) EndedAt: 2025-11-11 03:45:27 -0000 (Tue, 11 Nov 2025) EllapsedTime: 19.0 seconds RetCode: 0 Status: OK PackageFile: netresponse_1.70.0.tar.gz PackageFileSize: 999.4 KiB