Package: netresponse Version: 1.70.0 Command: /home/biocbuild/bbs-3.22-bioc/R/bin/R CMD check --install=check:netresponse.install-out.txt --library=/home/biocbuild/bbs-3.22-bioc/R/site-library --timings netresponse_1.70.0.tar.gz StartedAt: 2025-11-12 02:09:01 -0500 (Wed, 12 Nov 2025) EndedAt: 2025-11-12 02:10:19 -0500 (Wed, 12 Nov 2025) EllapsedTime: 78.1 seconds RetCode: 0 Status: OK CheckDir: netresponse.Rcheck Warnings: 0