Package: netresponse Version: 1.68.0 Command: /home/biocbuild/bbs-3.21-bioc/R/bin/R CMD INSTALL netresponse StartedAt: 2025-09-28 15:29:31 -0400 (Sun, 28 Sep 2025) EndedAt: 2025-09-28 15:29:42 -0400 (Sun, 28 Sep 2025) EllapsedTime: 10.8 seconds RetCode: 0 Status: OK