Package: netresponse Version: 1.68.0 Command: /Library/Frameworks/R.framework/Resources/bin/R CMD INSTALL netresponse StartedAt: 2025-10-13 15:57:04 -0400 (Mon, 13 Oct 2025) EndedAt: 2025-10-13 15:57:28 -0400 (Mon, 13 Oct 2025) EllapsedTime: 24.9 seconds RetCode: 0 Status: OK