Package: netresponse Version: 1.68.0 Command: /Library/Frameworks/R.framework/Resources/bin/R CMD build --keep-empty-dirs --no-resave-data netresponse StartedAt: 2025-10-13 21:06:47 -0400 (Mon, 13 Oct 2025) EndedAt: 2025-10-13 21:07:25 -0400 (Mon, 13 Oct 2025) EllapsedTime: 37.6 seconds RetCode: 0 Status: OK PackageFile: netresponse_1.68.0.tar.gz PackageFileSize: 975.5 KiB