Package: netresponse Version: 1.68.0 Command: /Library/Frameworks/R.framework/Resources/bin/R CMD build --keep-empty-dirs --no-resave-data netresponse StartedAt: 2025-04-21 17:44:03 -0400 (Mon, 21 Apr 2025) EndedAt: 2025-04-21 17:44:23 -0400 (Mon, 21 Apr 2025) EllapsedTime: 19.4 seconds RetCode: 0 Status: OK PackageFile: netresponse_1.68.0.tar.gz PackageFileSize: 975.5 KiB