Package: netresponse Version: 1.68.0 Command: rm -rf netresponse.buildbin-libdir && mkdir netresponse.buildbin-libdir && /Users/biocbuild/BBS/utils/build-universal.sh netresponse_1.68.0.tar.gz /Library/Frameworks/R.framework/Resources/bin/R netresponse.buildbin-libdir StartedAt: 2025-04-22 00:58:04 -0400 (Tue, 22 Apr 2025) EndedAt: 2025-04-22 00:58:25 -0400 (Tue, 22 Apr 2025) EllapsedTime: 20.7 seconds RetCode: 0 Status: OK PackageFile: netresponse_1.68.0.tgz PackageFileSize: 1.292 MiB