Package: netresponse Version: 1.68.0 Command: /Library/Frameworks/R.framework/Resources/bin/R CMD INSTALL netresponse StartedAt: 2025-09-29 15:58:19 -0400 (Mon, 29 Sep 2025) EndedAt: 2025-09-29 15:58:32 -0400 (Mon, 29 Sep 2025) EllapsedTime: 12.7 seconds RetCode: 0 Status: OK