Package: netresponse Version: 1.68.0 Maintainer: Leo Lahti MaintainerEmail: leo.lahti at iki.fi git_url: https://git.bioconductor.org/packages/netresponse git_branch: RELEASE_3_21 git_last_commit: 6b0d930 git_last_commit_date: 2025-04-15 10:00:39 -0400 (Tue, 15 Apr 2025)