Package: netprioR Version: 1.36.0 Command: /home/biocbuild/R/R/bin/R CMD INSTALL netprioR StartedAt: 2025-11-13 21:12:40 -0000 (Thu, 13 Nov 2025) EndedAt: 2025-11-13 21:12:55 -0000 (Thu, 13 Nov 2025) EllapsedTime: 15.2 seconds RetCode: 0 Status: OK