Package: netprioR Version: 1.36.0 Command: /home/biocbuild/R/R/bin/R CMD build --keep-empty-dirs --no-resave-data netprioR StartedAt: 2025-11-14 03:47:13 -0000 (Fri, 14 Nov 2025) EndedAt: 2025-11-14 03:48:08 -0000 (Fri, 14 Nov 2025) EllapsedTime: 55.0 seconds RetCode: 0 Status: OK PackageFile: netprioR_1.36.0.tar.gz PackageFileSize: 476.8 KiB