Package: netprioR Version: 1.36.0 Command: /home/biocbuild/bbs-3.22-bioc/R/bin/R CMD build --keep-empty-dirs --no-resave-data --md5 netprioR StartedAt: 2025-11-11 19:07:20 -0500 (Tue, 11 Nov 2025) EndedAt: 2025-11-11 19:08:02 -0500 (Tue, 11 Nov 2025) EllapsedTime: 42.1 seconds RetCode: 0 Status: OK PackageFile: netprioR_1.36.0.tar.gz PackageFileSize: 646.3 KiB