Package: netprioR Version: 1.34.0 Command: /Library/Frameworks/R.framework/Resources/bin/R CMD INSTALL netprioR StartedAt: 2025-10-06 15:22:37 -0400 (Mon, 06 Oct 2025) EndedAt: 2025-10-06 15:22:49 -0400 (Mon, 06 Oct 2025) EllapsedTime: 11.5 seconds RetCode: 0 Status: OK