Package: netprioR Version: 1.34.0 Command: /Library/Frameworks/R.framework/Resources/bin/R CMD build --keep-empty-dirs --no-resave-data netprioR StartedAt: 2025-10-10 05:57:33 -0400 (Fri, 10 Oct 2025) EndedAt: 2025-10-10 05:58:35 -0400 (Fri, 10 Oct 2025) EllapsedTime: 62.7 seconds RetCode: 0 Status: OK PackageFile: netprioR_1.34.0.tar.gz PackageFileSize: 547 KiB