Package: netprioR Version: 1.36.0 Maintainer: Fabian Schmich MaintainerEmail: fabian.schmich at bsse.ethz.ch git_url: https://git.bioconductor.org/packages/netprioR git_branch: RELEASE_3_22 git_last_commit: d579329 git_last_commit_date: 2025-10-29 10:32:31 -0400 (Wed, 29 Oct 2025)