Package: nethet Version: 1.42.0 Command: /home/biocbuild/R/R/bin/R CMD INSTALL nethet StartedAt: 2025-11-13 21:20:38 -0000 (Thu, 13 Nov 2025) EndedAt: 2025-11-13 21:20:58 -0000 (Thu, 13 Nov 2025) EllapsedTime: 20.4 seconds RetCode: 0 Status: OK