Package: nethet Version: 1.42.0 Command: /home/biocbuild/bbs-3.22-bioc/R/bin/R CMD INSTALL nethet StartedAt: 2025-11-11 15:19:13 -0500 (Tue, 11 Nov 2025) EndedAt: 2025-11-11 15:19:28 -0500 (Tue, 11 Nov 2025) EllapsedTime: 14.5 seconds RetCode: 0 Status: OK