Package: nethet Version: 1.42.0 Command: /home/biocbuild/bbs-3.22-bioc/R/bin/R CMD check --install=check:nethet.install-out.txt --library=/home/biocbuild/bbs-3.22-bioc/R/site-library --timings nethet_1.42.0.tar.gz StartedAt: 2025-11-12 02:08:30 -0500 (Wed, 12 Nov 2025) EndedAt: 2025-11-12 02:15:13 -0500 (Wed, 12 Nov 2025) EllapsedTime: 403.4 seconds RetCode: 0 Status: WARNINGS CheckDir: nethet.Rcheck Warnings: 1