Package: nethet Version: 1.40.0 Command: /home/biocbuild/bbs-3.21-bioc/R/bin/R CMD INSTALL nethet StartedAt: 2025-10-08 15:14:46 -0400 (Wed, 08 Oct 2025) EndedAt: 2025-10-08 15:15:01 -0400 (Wed, 08 Oct 2025) EllapsedTime: 15.0 seconds RetCode: 0 Status: OK