Package: nethet Version: 1.40.0 Command: /home/biocbuild/bbs-3.21-bioc/R/bin/R CMD build --keep-empty-dirs --no-resave-data nethet StartedAt: 2025-10-08 18:50:38 -0400 (Wed, 08 Oct 2025) EndedAt: 2025-10-08 18:54:54 -0400 (Wed, 08 Oct 2025) EllapsedTime: 255.4 seconds RetCode: 0 Status: OK PackageFile: nethet_1.40.0.tar.gz PackageFileSize: 704.8 KiB