Package: nethet Version: 1.40.0 Command: rm -rf nethet.buildbin-libdir && mkdir nethet.buildbin-libdir && /Users/biocbuild/BBS/utils/build-universal.sh nethet_1.40.0.tar.gz /Library/Frameworks/R.framework/Resources/bin/R nethet.buildbin-libdir StartedAt: 2025-04-22 00:58:03 -0400 (Tue, 22 Apr 2025) EndedAt: 2025-04-22 00:58:28 -0400 (Tue, 22 Apr 2025) EllapsedTime: 25.3 seconds RetCode: 0 Status: OK PackageFile: nethet_1.40.0.tgz PackageFileSize: 1.022 MiB