Package: nethet Version: 1.40.0 Command: /Library/Frameworks/R.framework/Resources/bin/R CMD INSTALL nethet StartedAt: 2025-10-06 17:15:05 -0400 (Mon, 06 Oct 2025) EndedAt: 2025-10-06 17:15:23 -0400 (Mon, 06 Oct 2025) EllapsedTime: 18.4 seconds RetCode: 0 Status: OK