Package: nethet Version: 1.40.0 Command: /Library/Frameworks/R.framework/Resources/bin/R CMD build --keep-empty-dirs --no-resave-data nethet StartedAt: 2025-10-10 05:56:51 -0400 (Fri, 10 Oct 2025) EndedAt: 2025-10-10 06:02:41 -0400 (Fri, 10 Oct 2025) EllapsedTime: 350.5 seconds RetCode: 0 Status: OK PackageFile: nethet_1.40.0.tar.gz PackageFileSize: 704.6 KiB