Package: nethet Version: 1.40.0 Command: rm -rf nethet.buildbin-libdir && mkdir nethet.buildbin-libdir && /Users/biocbuild/BBS/utils/build-universal.sh nethet_1.40.0.tar.gz /Library/Frameworks/R.framework/Resources/bin/R nethet.buildbin-libdir StartedAt: 2025-10-11 21:20:31 -0400 (Sat, 11 Oct 2025) EndedAt: 2025-10-11 21:20:54 -0400 (Sat, 11 Oct 2025) EllapsedTime: 22.9 seconds RetCode: 0 Status: OK PackageFile: nethet_1.40.0.tgz PackageFileSize: 1.021 MiB