Package: nethet Version: 1.40.0 Maintainer: Nicolas Staedler MaintainerEmail: staedler.n at gmail.com git_url: https://git.bioconductor.org/packages/nethet git_branch: RELEASE_3_21 git_last_commit: 7390500 git_last_commit_date: 2025-04-15 10:36:52 -0400 (Tue, 15 Apr 2025)