Package: netboost Version: 2.18.0 Command: /home/biocbuild/R/R/bin/R CMD INSTALL netboost StartedAt: 2025-11-10 21:58:56 -0000 (Mon, 10 Nov 2025) EndedAt: 2025-11-10 22:00:00 -0000 (Mon, 10 Nov 2025) EllapsedTime: 64.5 seconds RetCode: 0 Status: OK