Package: netboost Version: 2.18.0 Command: /home/biocbuild/R/R/bin/R CMD build --keep-empty-dirs --no-resave-data netboost StartedAt: 2025-11-11 03:44:22 -0000 (Tue, 11 Nov 2025) EndedAt: 2025-11-11 03:45:39 -0000 (Tue, 11 Nov 2025) EllapsedTime: 77.0 seconds RetCode: 1 Status: ERROR PackageFile: None PackageFileSize: NA