Package: netboost Version: 2.18.0 Command: /home/biocbuild/bbs-3.22-bioc/R/bin/R CMD INSTALL netboost StartedAt: 2025-11-11 15:50:23 -0500 (Tue, 11 Nov 2025) EndedAt: 2025-11-11 15:51:10 -0500 (Tue, 11 Nov 2025) EllapsedTime: 47.1 seconds RetCode: 0 Status: OK