Package: netboost Version: 2.16.0 Command: /home/biocbuild/bbs-3.21-bioc/R/bin/R CMD check --install=check:netboost.install-out.txt --library=/home/biocbuild/bbs-3.21-bioc/R/site-library --timings netboost_2.16.0.tar.gz StartedAt: 2025-10-16 01:39:39 -0400 (Thu, 16 Oct 2025) EndedAt: 2025-10-16 01:42:56 -0400 (Thu, 16 Oct 2025) EllapsedTime: 197.2 seconds RetCode: 0 Status: WARNINGS CheckDir: netboost.Rcheck Warnings: 1