Package: netboost Version: 2.16.0 Command: /Library/Frameworks/R.framework/Resources/bin/R CMD INSTALL netboost StartedAt: 2025-09-25 16:27:31 -0400 (Thu, 25 Sep 2025) EndedAt: 2025-09-25 16:29:36 -0400 (Thu, 25 Sep 2025) EllapsedTime: 125.3 seconds RetCode: 0 Status: OK