Package: netboost Version: 2.16.0 Command: /Library/Frameworks/R.framework/Resources/bin/R CMD build --keep-empty-dirs --no-resave-data netboost StartedAt: 2025-09-25 21:05:57 -0400 (Thu, 25 Sep 2025) EndedAt: 2025-09-25 21:08:32 -0400 (Thu, 25 Sep 2025) EllapsedTime: 154.6 seconds RetCode: 0 Status: OK PackageFile: netboost_2.16.0.tar.gz PackageFileSize: 1.133 MiB