Package: netboost Version: 2.16.0 Command: rm -rf netboost.buildbin-libdir && mkdir netboost.buildbin-libdir && /Users/biocbuild/BBS/utils/build-universal.sh netboost_2.16.0.tar.gz /Library/Frameworks/R.framework/Resources/bin/R netboost.buildbin-libdir StartedAt: 2025-09-26 15:18:56 -0400 (Fri, 26 Sep 2025) EndedAt: 2025-09-26 15:21:46 -0400 (Fri, 26 Sep 2025) EllapsedTime: 169.9 seconds RetCode: 0 Status: OK PackageFile: netboost_2.16.0.tgz PackageFileSize: 1.126 MiB