Package: netboost Version: 2.16.0 Command: rm -rf netboost.buildbin-libdir && mkdir netboost.buildbin-libdir && /Users/biocbuild/BBS/utils/build-universal.sh netboost_2.16.0.tar.gz /Library/Frameworks/R.framework/Resources/bin/R netboost.buildbin-libdir StartedAt: 2025-04-22 00:58:02 -0400 (Tue, 22 Apr 2025) EndedAt: 2025-04-22 00:59:31 -0400 (Tue, 22 Apr 2025) EllapsedTime: 89.1 seconds RetCode: 0 Status: OK PackageFile: netboost_2.16.0.tgz PackageFileSize: 1.125 MiB