Package: netZooR Version: 1.14.0 Command: /home/biocbuild/R/R/bin/R CMD build --keep-empty-dirs --no-resave-data netZooR StartedAt: 2025-11-14 03:47:52 -0000 (Fri, 14 Nov 2025) EndedAt: 2025-11-14 03:47:54 -0000 (Fri, 14 Nov 2025) EllapsedTime: 2.0 seconds RetCode: 1 Status: ERROR PackageFile: None PackageFileSize: NA