Package: netZooR Version: 1.12.0 Command: /home/biocbuild/bbs-3.21-bioc/R/bin/R CMD INSTALL netZooR StartedAt: 2025-09-28 16:21:51 -0400 (Sun, 28 Sep 2025) EndedAt: 2025-09-28 16:21:51 -0400 (Sun, 28 Sep 2025) EllapsedTime: 0.3 seconds RetCode: 1 Status: ERROR