Package: netZooR Version: 1.12.0 Command: /home/biocbuild/bbs-3.21-bioc/R/bin/R CMD build --keep-empty-dirs --no-resave-data netZooR StartedAt: 2025-10-01 18:55:32 -0400 (Wed, 01 Oct 2025) EndedAt: 2025-10-01 18:55:33 -0400 (Wed, 01 Oct 2025) EllapsedTime: 1.0 seconds RetCode: 1 Status: ERROR PackageFile: None PackageFileSize: NA