Package: netZooR Version: 1.12.0 Command: /Library/Frameworks/R.framework/Resources/bin/R CMD build --keep-empty-dirs --no-resave-data netZooR StartedAt: 2025-10-13 21:07:22 -0400 (Mon, 13 Oct 2025) EndedAt: 2025-10-13 21:07:26 -0400 (Mon, 13 Oct 2025) EllapsedTime: 4.4 seconds RetCode: 1 Status: ERROR PackageFile: None PackageFileSize: NA