Package: netZooR Version: 1.12.0 Command: /Library/Frameworks/R.framework/Resources/bin/R CMD INSTALL netZooR StartedAt: 2025-10-02 18:46:06 -0400 (Thu, 02 Oct 2025) EndedAt: 2025-10-02 18:46:07 -0400 (Thu, 02 Oct 2025) EllapsedTime: 0.4 seconds RetCode: 1 Status: ERROR