Package: netZooR Version: 1.12.0 Command: /Library/Frameworks/R.framework/Resources/bin/R CMD build --keep-empty-dirs --no-resave-data netZooR StartedAt: 2025-10-03 05:36:51 -0400 (Fri, 03 Oct 2025) EndedAt: 2025-10-03 05:36:54 -0400 (Fri, 03 Oct 2025) EllapsedTime: 3.5 seconds RetCode: 1 Status: ERROR PackageFile: None PackageFileSize: NA