Package: netDx Version: 1.20.0 Command: /home/biocbuild/bbs-3.21-bioc/R/bin/R CMD INSTALL netDx StartedAt: 2025-10-05 16:00:06 -0400 (Sun, 05 Oct 2025) EndedAt: 2025-10-05 16:00:37 -0400 (Sun, 05 Oct 2025) EllapsedTime: 31.1 seconds RetCode: 0 Status: OK