Package: netDx Version: 1.20.0 Command: /home/biocbuild/bbs-3.21-bioc/R/bin/R CMD build --keep-empty-dirs --no-resave-data netDx StartedAt: 2025-10-05 18:52:13 -0400 (Sun, 05 Oct 2025) EndedAt: 2025-10-05 18:55:49 -0400 (Sun, 05 Oct 2025) EllapsedTime: 215.3 seconds RetCode: 1 Status: ERROR PackageFile: None PackageFileSize: NA