Package: netDx Version: 1.20.0 Command: /Library/Frameworks/R.framework/Resources/bin/R CMD INSTALL netDx StartedAt: 2025-10-02 18:39:33 -0400 (Thu, 02 Oct 2025) EndedAt: 2025-10-02 18:40:11 -0400 (Thu, 02 Oct 2025) EllapsedTime: 38.2 seconds RetCode: 0 Status: OK