Package: netDx Version: 1.20.0 Command: /Library/Frameworks/R.framework/Resources/bin/R CMD build --keep-empty-dirs --no-resave-data netDx StartedAt: 2025-10-03 05:33:48 -0400 (Fri, 03 Oct 2025) EndedAt: 2025-10-03 05:37:52 -0400 (Fri, 03 Oct 2025) EllapsedTime: 243.9 seconds RetCode: 1 Status: ERROR PackageFile: None PackageFileSize: NA