Package: nempi Version: 1.16.0 Command: /home/biocbuild/R/R/bin/R CMD INSTALL nempi StartedAt: 2025-10-13 20:38:50 -0000 (Mon, 13 Oct 2025) EndedAt: 2025-10-13 20:39:14 -0000 (Mon, 13 Oct 2025) EllapsedTime: 23.7 seconds RetCode: 0 Status: OK