Package: nempi Version: 1.16.0 Command: /home/biocbuild/R/R/bin/R CMD build --keep-empty-dirs --no-resave-data nempi StartedAt: 2025-10-14 03:01:35 -0000 (Tue, 14 Oct 2025) EndedAt: 2025-10-14 03:02:42 -0000 (Tue, 14 Oct 2025) EllapsedTime: 67.0 seconds RetCode: 0 Status: OK PackageFile: nempi_1.16.0.tar.gz PackageFileSize: 576.5 KiB