Package: ndexr Version: 1.32.0 Command: /home/biocbuild/R/R/bin/R CMD INSTALL ndexr StartedAt: 2025-11-10 21:12:30 -0000 (Mon, 10 Nov 2025) EndedAt: 2025-11-10 21:12:51 -0000 (Mon, 10 Nov 2025) EllapsedTime: 21.2 seconds RetCode: 0 Status: OK