Package: ndexr Version: 1.32.0 Command: /home/biocbuild/bbs-3.22-bioc/R/bin/R CMD INSTALL ndexr StartedAt: 2025-11-13 15:09:05 -0500 (Thu, 13 Nov 2025) EndedAt: 2025-11-13 15:09:07 -0500 (Thu, 13 Nov 2025) EllapsedTime: 2.6 seconds RetCode: 0 Status: OK