Package: ndexr Version: 1.32.0 Command: /home/biocbuild/bbs-3.22-bioc/R/bin/R CMD build --keep-empty-dirs --no-resave-data --md5 ndexr StartedAt: 2025-11-13 19:04:34 -0500 (Thu, 13 Nov 2025) EndedAt: 2025-11-13 19:04:45 -0500 (Thu, 13 Nov 2025) EllapsedTime: 11.0 seconds RetCode: 0 Status: OK PackageFile: ndexr_1.32.0.tar.gz PackageFileSize: 948.6 KiB