Package: ndexr Version: 1.30.0 Command: /Library/Frameworks/R.framework/Resources/bin/R CMD build --keep-empty-dirs --no-resave-data ndexr StartedAt: 2025-10-09 21:05:23 -0400 (Thu, 09 Oct 2025) EndedAt: 2025-10-09 21:05:46 -0400 (Thu, 09 Oct 2025) EllapsedTime: 22.4 seconds RetCode: 0 Status: OK PackageFile: ndexr_1.30.0.tar.gz PackageFileSize: 946.5 KiB