Package: ncdfFlow Version: 2.56.0 Command: /home/biocbuild/bbs-3.22-bioc/R/bin/R CMD check --install=check:ncdfFlow.install-out.txt --library=/home/biocbuild/bbs-3.22-bioc/R/site-library --timings ncdfFlow_2.56.0.tar.gz StartedAt: 2025-11-12 02:06:02 -0500 (Wed, 12 Nov 2025) EndedAt: 2025-11-12 02:07:36 -0500 (Wed, 12 Nov 2025) EllapsedTime: 94.1 seconds RetCode: 0 Status: WARNINGS CheckDir: ncdfFlow.Rcheck Warnings: 3